BEGIN:VCALENDAR
VERSION:2.0
PRODID:-//The Little Things
CALSCALE:GREGORIAN
METHOD:PUBLISH
X-WR-CALNAME:The Little Things
X-ORIGINAL-URL:https://littlethings.sg/product/holiday-cooking-japan-baked-katsu-don-dango-afternoon/
X-WR-CALDESC:Holiday Cooking &#8211; Japan [Baked Katsu Don + Dango] (Afternoon)
BEGIN:VEVENT
DTSTART;TZID=Asia/Shanghai:20230613T143000
DTEND;TZID=Asia/Shanghai:20230613T170000
SUMMARY:Holiday Cooking – Japan [Baked Katsu Don + Dango] (Afternoon)
DESCRIPTION:T&amp;C: Not suitable for those with egg / gluten intolerances
URL:https://littlethings.sg/product/holiday-cooking-japan-baked-katsu-don-dango-afternoon/
LOCATION:182 Cecil Street #02-10/11, Frasers Tower, 069547
END:VEVENT
END:VCALENDAR
