BEGIN:VCALENDAR
VERSION:2.0
PRODID:-//The Little Things
CALSCALE:GREGORIAN
METHOD:PUBLISH
X-WR-CALNAME:The Little Things
X-ORIGINAL-URL:https://littlethings.sg/product/summer-baking-watermelon-cookies-afternoon/
X-WR-CALDESC:Summer Baking &#8211; Watermelon Cookies (Afternoon)
BEGIN:VEVENT
DTSTART;TZID=Asia/Shanghai:20230622T130000
DTEND;TZID=Asia/Shanghai:20230622T143000
SUMMARY:Summer Baking – Watermelon Cookies (Afternoon)
DESCRIPTION:T&amp;C: Not suitable for those with egg / gluten intolerances
URL:https://littlethings.sg/product/summer-baking-watermelon-cookies-afternoon/
LOCATION:1 Greendale Avenue, Singapore 289495
END:VEVENT
END:VCALENDAR
