BEGIN:VCALENDAR
VERSION:2.0
PRODID:-//The Little Things
CALSCALE:GREGORIAN
METHOD:PUBLISH
X-WR-CALNAME:The Little Things
X-ORIGINAL-URL:https://littlethings.sg/product/holiday-cooking-japan-baked-katsu-don-dango-2/
X-WR-CALDESC:Holiday Cooking &#8211; Japan [Baked Katsu Don + Dango]
BEGIN:VEVENT
DTSTART;TZID=Asia/Shanghai:20230711T100000
DTEND;TZID=Asia/Shanghai:20230711T120000
SUMMARY:Holiday Cooking – Japan [Baked Katsu Don + Dango]
DESCRIPTION:T&amp;C: Not suitable for those with egg / gluten intolerances
URL:https://littlethings.sg/product/holiday-cooking-japan-baked-katsu-don-dango-2/
LOCATION:1 Greendale Avenue, Singapore 289495
END:VEVENT
END:VCALENDAR
