BEGIN:VCALENDAR
VERSION:2.0
PRODID:-//The Little Things
CALSCALE:GREGORIAN
METHOD:PUBLISH
X-WR-CALNAME:The Little Things
X-ORIGINAL-URL:https://littlethings.sg/product/holiday-cooking-china-yang-zhou-fried-rice-egg-tarts/
X-WR-CALDESC:Holiday Cooking &#8211; China [Yang Zhou Fried Rice + Egg Tarts]
BEGIN:VEVENT
DTSTART;TZID=Asia/Shanghai:20230712T100000
DTEND;TZID=Asia/Shanghai:20230712T120000
SUMMARY:Holiday Cooking – China [Yang Zhou Fried Rice + Egg Tarts]
DESCRIPTION:T&amp;C: Not suitable for those with egg / gluten intolerances
URL:https://littlethings.sg/product/holiday-cooking-china-yang-zhou-fried-rice-egg-tarts/
LOCATION:1 Greendale Avenue, Singapore 289495
END:VEVENT
END:VCALENDAR
