BEGIN:VCALENDAR
VERSION:2.0
PRODID:-//The Little Things
CALSCALE:GREGORIAN
METHOD:PUBLISH
X-WR-CALNAME:The Little Things
X-ORIGINAL-URL:https://littlethings.sg/product/holiday-cooking-philippines-chicken-adobo-lengua-de-gato-2/
X-WR-CALDESC:Holiday Cooking &#8211; Philippines [Chicken Adobo + Lengua de Gato]
BEGIN:VEVENT
DTSTART;TZID=Asia/Shanghai:20230713T100000
DTEND;TZID=Asia/Shanghai:20230713T120000
SUMMARY:Holiday Cooking – Philippines [Chicken Adobo + Lengua de Gato]
DESCRIPTION:T&amp;C: Not suitable for those with egg / gluten intolerances
URL:https://littlethings.sg/product/holiday-cooking-philippines-chicken-adobo-lengua-de-gato-2/
LOCATION:1 Greendale Avenue, Singapore 289495
END:VEVENT
END:VCALENDAR
