BEGIN:VCALENDAR
VERSION:2.0
PRODID:-//The Little Things
CALSCALE:GREGORIAN
METHOD:PUBLISH
X-WR-CALNAME:The Little Things
X-ORIGINAL-URL:https://littlethings.sg/product/self-savvy-oishii-time-handmade-gyoza/
X-WR-CALDESC:Self-Savvy &#8211; Oishii Time [Handmade Gyoza]
BEGIN:VEVENT
DTSTART;TZID=Asia/Shanghai:20230729T103000
DTEND;TZID=Asia/Shanghai:20230729T120000
SUMMARY:Self-Savvy – Oishii Time [Handmade Gyoza]
DESCRIPTION:T&amp;C: Not suitable for those with egg / gluten intolerances
URL:https://littlethings.sg/product/self-savvy-oishii-time-handmade-gyoza/
LOCATION:1 Greendale Avenue, Singapore 289495
END:VEVENT
END:VCALENDAR
