BEGIN:VCALENDAR
VERSION:2.0
PRODID:-//The Little Things
CALSCALE:GREGORIAN
METHOD:PUBLISH
X-WR-CALNAME:The Little Things
X-ORIGINAL-URL:https://littlethings.sg/product/self-savvy-oishii-time-dorayaki-strawberry-daifuku/
X-WR-CALDESC:Self-Savvy &#8211; Oishii Time [Dorayaki + Strawberry Daifuku]
BEGIN:VEVENT
DTSTART;TZID=Asia/Shanghai:20230806T103000
DTEND;TZID=Asia/Shanghai:20230806T120000
SUMMARY:Self-Savvy – Oishii Time [Dorayaki + Strawberry Daifuku]
DESCRIPTION:T&amp;C: Not suitable for those with egg / gluten intolerances
URL:https://littlethings.sg/product/self-savvy-oishii-time-dorayaki-strawberry-daifuku/
LOCATION:1 Greendale Avenue, Singapore 289495
END:VEVENT
END:VCALENDAR
