BEGIN:VCALENDAR
VERSION:2.0
PRODID:-//The Little Things
CALSCALE:GREGORIAN
METHOD:PUBLISH
X-WR-CALNAME:The Little Things
X-ORIGINAL-URL:https://littlethings.sg/product/todds-in-the-kitchen-red-velvet-cookies/
X-WR-CALDESC:Todds in the Kitchen &#8211; Red Velvet Cookies
BEGIN:VEVENT
DTSTART;TZID=Asia/Shanghai:20230722T090000
DTEND;TZID=Asia/Shanghai:20230722T100000
SUMMARY:Todds in the Kitchen – Red Velvet Cookies
DESCRIPTION:T&amp;C: Not suitable for those with egg / gluten intolerances
URL:https://littlethings.sg/product/todds-in-the-kitchen-red-velvet-cookies/
LOCATION:1 Greendale Avenue, Singapore 289495
END:VEVENT
END:VCALENDAR
