BEGIN:VCALENDAR
VERSION:2.0
PRODID:-//The Little Things
CALSCALE:GREGORIAN
METHOD:PUBLISH
X-WR-CALNAME:The Little Things
X-ORIGINAL-URL:https://littlethings.sg/product/todds-in-the-kitchen-blueberry-muffins/
X-WR-CALDESC:Todds in the Kitchen &#8211; Blueberry Muffins
BEGIN:VEVENT
DTSTART;TZID=Asia/Shanghai:20230729T090000
DTEND;TZID=Asia/Shanghai:20230729T100000
SUMMARY:Todds in the Kitchen – Blueberry Muffins
DESCRIPTION:T&amp;C: Not suitable for those with egg / gluten intolerances
URL:https://littlethings.sg/product/todds-in-the-kitchen-blueberry-muffins/
LOCATION:1 Greendale Avenue, Singapore 289495
END:VEVENT
END:VCALENDAR
