BEGIN:VCALENDAR
VERSION:2.0
PRODID:-//The Little Things
CALSCALE:GREGORIAN
METHOD:PUBLISH
X-WR-CALNAME:The Little Things
X-ORIGINAL-URL:https://littlethings.sg/product/todds-in-the-kitchen-ham-cheese-scones/
X-WR-CALDESC:Todds in the Kitchen &#8211; Ham &#038; Cheese Scones
BEGIN:VEVENT
DTSTART;TZID=Asia/Shanghai:20230902T090000
DTEND;TZID=Asia/Shanghai:20230902T100000
SUMMARY:Todds in the Kitchen – Ham & Cheese Scones
DESCRIPTION:T&amp;C: Not suitable for those with egg / gluten intolerances
URL:https://littlethings.sg/product/todds-in-the-kitchen-ham-cheese-scones/
LOCATION:1 Greendale Avenue, Singapore 289495
END:VEVENT
END:VCALENDAR
