BEGIN:VCALENDAR
VERSION:2.0
PRODID:-//The Little Things
CALSCALE:GREGORIAN
METHOD:PUBLISH
X-WR-CALNAME:The Little Things
X-ORIGINAL-URL:https://littlethings.sg/product/am-bake-camp-piggy-cupcakes/
X-WR-CALDESC:AM Bake Camp &#8211; Piggy Cupcakes
BEGIN:VEVENT
DTSTART;TZID=Asia/Shanghai:20230905T100000
DTEND;TZID=Asia/Shanghai:20230905T113000
SUMMARY:AM Bake Camp – Piggy Cupcakes
DESCRIPTION:T&amp;C: Not suitable for those with egg / gluten intolerances
URL:https://littlethings.sg/product/am-bake-camp-piggy-cupcakes/
LOCATION:1 Greendale Avenue, Singapore 289495
END:VEVENT
END:VCALENDAR
