BEGIN:VCALENDAR
VERSION:2.0
PRODID:-//The Little Things
CALSCALE:GREGORIAN
METHOD:PUBLISH
X-WR-CALNAME:The Little Things
X-ORIGINAL-URL:https://littlethings.sg/product/pm-bake-camp-caterpillar-bread/
X-WR-CALDESC:PM Bake Camp &#8211; Caterpillar Bread
BEGIN:VEVENT
DTSTART;TZID=Asia/Shanghai:20230907T130000
DTEND;TZID=Asia/Shanghai:20230907T143000
SUMMARY:PM Bake Camp – Caterpillar Bread
DESCRIPTION:T&amp;C: Not suitable for those with egg / gluten intolerances
URL:https://littlethings.sg/product/pm-bake-camp-caterpillar-bread/
LOCATION:1 Greendale Avenue, Singapore 289495
END:VEVENT
END:VCALENDAR
