BEGIN:VCALENDAR
VERSION:2.0
PRODID:-//The Little Things
CALSCALE:GREGORIAN
METHOD:PUBLISH
X-WR-CALNAME:The Little Things
X-ORIGINAL-URL:https://littlethings.sg/product/pm-christmas-boot-camp-3-days-package/
X-WR-CALDESC:PM Christmas Boot Camp &#8211; 3 days package
BEGIN:VEVENT
DTSTART;TZID=Asia/Shanghai:20231205T100000
DTEND;TZID=Asia/Shanghai:20231207T113000
SUMMARY:PM Christmas Boot Camp – 3 days package
DESCRIPTION:T&amp;C: Not suitable for those with egg / gluten intolerances
URL:https://littlethings.sg/product/pm-christmas-boot-camp-3-days-package/
LOCATION:1 Greendale Avenue, Singapore 289495
END:VEVENT
END:VCALENDAR
