BEGIN:VCALENDAR
VERSION:2.0
PRODID:-//The Little Things
CALSCALE:GREGORIAN
METHOD:PUBLISH
X-WR-CALNAME:The Little Things
X-ORIGINAL-URL:https://littlethings.sg/product/am-christmas-boot-camp-lasagna-lava-cake/
X-WR-CALDESC:AM Christmas Boot Camp &#8211; Lasagna + Lava Cake
BEGIN:VEVENT
DTSTART;TZID=Asia/Shanghai:20231205T100000
DTEND;TZID=Asia/Shanghai:20231205T120000
SUMMARY:AM Christmas Boot Camp – Lasagna + Lava Cake
DESCRIPTION:T&amp;C: Not suitable for those with egg / gluten intolerances
URL:https://littlethings.sg/product/am-christmas-boot-camp-lasagna-lava-cake/
LOCATION:1 Greendale Avenue, Singapore 289495
END:VEVENT
END:VCALENDAR
