BEGIN:VCALENDAR
VERSION:2.0
PRODID:-//The Little Things
CALSCALE:GREGORIAN
METHOD:PUBLISH
X-WR-CALNAME:The Little Things
X-ORIGINAL-URL:https://littlethings.sg/product/am-holiday-baking-candy-cane-cookies/
X-WR-CALDESC:AM Holiday Baking &#8211; Candy Cane Cookies
BEGIN:VEVENT
DTSTART;TZID=Asia/Shanghai:20231213T100000
DTEND;TZID=Asia/Shanghai:20231213T113000
SUMMARY:AM Holiday Baking – Candy Cane Cookies
DESCRIPTION:T&amp;C: Not suitable for those with egg / gluten intolerances
URL:https://littlethings.sg/product/am-holiday-baking-candy-cane-cookies/
LOCATION:1 Greendale Avenue, Singapore 289495
END:VEVENT
END:VCALENDAR
