BEGIN:VCALENDAR
VERSION:2.0
PRODID:-//The Little Things
CALSCALE:GREGORIAN
METHOD:PUBLISH
X-WR-CALNAME:The Little Things
X-ORIGINAL-URL:https://littlethings.sg/product/self-savvy-taste-of-home-mee-hoon-kuey/
X-WR-CALDESC:Self-Savvy &#8211; Taste of Home: Mee Hoon Kuey
BEGIN:VEVENT
DTSTART;TZID=Asia/Shanghai:20231104T100000
DTEND;TZID=Asia/Shanghai:20231104T120000
SUMMARY:Self-Savvy – Taste of Home: Mee Hoon Kuey
DESCRIPTION:T&amp;C: Not suitable for those with egg / gluten intolerances
URL:https://littlethings.sg/product/self-savvy-taste-of-home-mee-hoon-kuey/
LOCATION:1 Greendale Avenue, Singapore 289495
END:VEVENT
END:VCALENDAR
