BEGIN:VCALENDAR
VERSION:2.0
PRODID:-//The Little Things
CALSCALE:GREGORIAN
METHOD:PUBLISH
X-WR-CALNAME:The Little Things
X-ORIGINAL-URL:https://littlethings.sg/product/self-savvy-taste-of-home-fried-carrot-cake-roti-john/
X-WR-CALDESC:Self-Savvy &#8211; Taste of Home: Fried Carrot Cake + Roti John
BEGIN:VEVENT
DTSTART;TZID=Asia/Shanghai:20231118T100000
DTEND;TZID=Asia/Shanghai:20231118T120000
SUMMARY:Self-Savvy – Taste of Home: Fried Carrot Cake + Roti John
DESCRIPTION:T&amp;C: Not suitable for those with egg / gluten intolerances
URL:https://littlethings.sg/product/self-savvy-taste-of-home-fried-carrot-cake-roti-john/
LOCATION:1 Greendale Avenue, Singapore 289495
END:VEVENT
END:VCALENDAR
