BEGIN:VCALENDAR
VERSION:2.0
PRODID:-//The Little Things
CALSCALE:GREGORIAN
METHOD:PUBLISH
X-WR-CALNAME:The Little Things
X-ORIGINAL-URL:https://littlethings.sg/product/self-savvy-taste-of-home-nasi-lemak/
X-WR-CALDESC:Self-Savvy &#8211; Taste of Home: Nasi Lemak
BEGIN:VEVENT
DTSTART;TZID=Asia/Shanghai:20231216T100000
DTEND;TZID=Asia/Shanghai:20231216T120000
SUMMARY:Self-Savvy – Taste of Home: Nasi Lemak
DESCRIPTION:T&amp;C: Not suitable for those with egg / gluten intolerances THIS EVENT IS HELD IN CONJUNCTION WITH OUR SPONSOR, KFRESHZONE! https://www.facebook.com/KFreshZone/ &nbsp;
URL:https://littlethings.sg/product/self-savvy-taste-of-home-nasi-lemak/
LOCATION:1 Greendale Avenue, Singapore 289495
END:VEVENT
END:VCALENDAR
