BEGIN:VCALENDAR
VERSION:2.0
PRODID:-//The Little Things
CALSCALE:GREGORIAN
METHOD:PUBLISH
X-WR-CALNAME:The Little Things
X-ORIGINAL-URL:https://littlethings.sg/product/todds-in-the-kitchen-oct-dec-lavender-cookies/
X-WR-CALDESC:Todds in the Kitchen: Oct &#8211; Dec [Lavender Cookies]
BEGIN:VEVENT
DTSTART;TZID=Asia/Shanghai:20231216T090000
DTEND;TZID=Asia/Shanghai:20231216T100000
SUMMARY:Todds in the Kitchen: Oct – Dec [Lavender Cookies]
DESCRIPTION:T&amp;C: Not suitable for those with egg / gluten intolerances
URL:https://littlethings.sg/product/todds-in-the-kitchen-oct-dec-lavender-cookies/
LOCATION:1 Greendale Avenue, Singapore 289495
END:VEVENT
END:VCALENDAR
