BEGIN:VCALENDAR
VERSION:2.0
PRODID:-//The Little Things
CALSCALE:GREGORIAN
METHOD:PUBLISH
X-WR-CALNAME:The Little Things
X-ORIGINAL-URL:https://littlethings.sg/product/mar-hols-ondeh-day/
X-WR-CALDESC:Mar Hols &#8211; Ondeh Day!
BEGIN:VEVENT
DTSTART;TZID=Asia/Shanghai:20240311T100000
DTEND;TZID=Asia/Shanghai:20240311T120000
SUMMARY:Mar Hols – Ondeh Day!
DESCRIPTION:
URL:https://littlethings.sg/product/mar-hols-ondeh-day/
LOCATION:6 Raffles Blvd, #03-150 Marina Square (The Early Chapter)
END:VEVENT
END:VCALENDAR
