BEGIN:VCALENDAR
VERSION:2.0
PRODID:-//The Little Things
CALSCALE:GREGORIAN
METHOD:PUBLISH
X-WR-CALNAME:The Little Things
X-ORIGINAL-URL:https://littlethings.sg/product/mar-hols-egg-tarts-taro-ball-jelly/
X-WR-CALDESC:Mar Hols &#8211; Egg Tarts &#038; Taro Ball Jelly
BEGIN:VEVENT
DTSTART;TZID=Asia/Shanghai:20240312T100000
DTEND;TZID=Asia/Shanghai:20240312T120000
SUMMARY:Mar Hols – Egg Tarts & Taro Ball Jelly
DESCRIPTION:
URL:https://littlethings.sg/product/mar-hols-egg-tarts-taro-ball-jelly/
LOCATION:6 Raffles Blvd, #03-150 Marina Square (The Early Chapter)
END:VEVENT
END:VCALENDAR
