BEGIN:VCALENDAR
VERSION:2.0
PRODID:-//The Little Things
CALSCALE:GREGORIAN
METHOD:PUBLISH
X-WR-CALNAME:The Little Things
X-ORIGINAL-URL:https://littlethings.sg/product/mar-hols-both-days/
X-WR-CALDESC:Mar Hols &#8211; Both Days
BEGIN:VEVENT
DTSTART;TZID=Asia/Shanghai:20240311T100000
DTEND;TZID=Asia/Shanghai:20240312T120000
SUMMARY:Mar Hols – Both Days
DESCRIPTION:
URL:https://littlethings.sg/product/mar-hols-both-days/
LOCATION:6 Raffles Blvd, #03-150 Marina Square (The Early Chapter)
END:VEVENT
END:VCALENDAR
