BEGIN:VCALENDAR
VERSION:2.0
PRODID:-//The Little Things
CALSCALE:GREGORIAN
METHOD:PUBLISH
X-WR-CALNAME:The Little Things
X-ORIGINAL-URL:https://littlethings.sg/product/bubblesoflove/
X-WR-CALDESC:Parent &#038; Child &#8211; A Mothers&#8217; Day BOBA Special!
BEGIN:VEVENT
DTSTART;TZID=Asia/Shanghai:20240512T100000
DTEND;TZID=Asia/Shanghai:20240512T120000
SUMMARY:Parent & Child – A Mothers’ Day BOBA Special!
DESCRIPTION:
URL:https://littlethings.sg/product/bubblesoflove/
LOCATION:52 Marine Terrace, Good Life! Makan - Kitchen (Singapore 440052)
END:VEVENT
END:VCALENDAR
