BEGIN:VCALENDAR
VERSION:2.0
PRODID:-//The Little Things
CALSCALE:GREGORIAN
METHOD:PUBLISH
X-WR-CALNAME:The Little Things
X-ORIGINAL-URL:https://littlethings.sg/product/a-little-block-party-admission-tix/
X-WR-CALDESC:A Little Block Party! [Admission Tix]
BEGIN:VEVENT
DTSTART;TZID=Asia/Shanghai:20240727T080000
DTEND;TZID=Asia/Shanghai:20240727T140000
SUMMARY:A Little Block Party! [Admission Tix]
DESCRIPTION:
URL:https://littlethings.sg/product/a-little-block-party-admission-tix/
LOCATION:52 Marine Terrace, Good Life! Makan - Kitchen (Singapore 440052)
END:VEVENT
END:VCALENDAR
