BEGIN:VCALENDAR
VERSION:2.0
PRODID:-//The Little Things
CALSCALE:GREGORIAN
METHOD:PUBLISH
X-WR-CALNAME:The Little Things
X-ORIGINAL-URL:https://littlethings.sg/product/a-little-block-party-diy-iced-gems-workshop/
X-WR-CALDESC:A Little Block Party! [DIY Iced Gems Workshop]
BEGIN:VEVENT
DTSTART;TZID=Asia/Shanghai:20240727T110000
DTEND;TZID=Asia/Shanghai:20240727T120000
SUMMARY:A Little Block Party! [DIY Iced Gems Workshop]
DESCRIPTION:
URL:https://littlethings.sg/product/a-little-block-party-diy-iced-gems-workshop/
LOCATION:52 Marine Terrace, Good Life! Makan - Kitchen (Singapore 440052)
END:VEVENT
END:VCALENDAR
